BEGIN:VCALENDAR
VERSION:2.0
PRODID:-//hacksw/handcal//NONSGML v1.0//EN
BEGIN:VEVENT
SUMMARY:MN Bien Etre distance de 4 a 6 km - hippodrome de Verrie
UID:6bd8c488-8fa3-4d3a-83e3-bc4b823cf5e3
DTSTART:20260317T163000Z
DTEND:20260317T180000Z
LOCATION:Localisation Hippodrome de Verrie Entree principale 49400 Verrie
CATEGORIES:Sportif
STATUS:
URL;VALUE=URI:https://www.slm49.com/evenements/2026/03/17/mn-bien-etre-distance-de-4-a-6-km-hippodrome-de-verrie-2418969
END:VEVENT
END:VCALENDAR
