BEGIN:VCALENDAR
VERSION:2.0
PRODID:-//hacksw/handcal//NONSGML v1.0//EN
BEGIN:VEVENT
SUMMARY:BLOU parc de jeu 10 km
UID:2e70befd-5ce7-4bbb-bbdb-9eeaf0cf2cf6
DTSTART:20260410T073000Z
DTEND:20260410T100000Z
LOCATION:Localisation Parc de jeu 9 ch du Boulevard 49 BLOU
CATEGORIES:Sportif
STATUS:
DESCRIPTION:<p><strong>En bonus, l'apero d'avant les vacances
 !</strong></p>
URL;VALUE=URI:https://www.slm49.com/evenements/2026/04/10/blou-parc-de-jeu-10-km-2435856
END:VEVENT
END:VCALENDAR
