BEGIN:VCALENDAR
VERSION:2.0
PRODID:-//hacksw/handcal//NONSGML v1.0//EN
BEGIN:VEVENT
SUMMARY:MN Xtreme distance de 13 a 15 km
UID:7f8fae99-b68d-430c-bedc-06c176afe4e5
DTSTART:20260629T070000Z
DTEND:20260629T094500Z
LOCATION:Localisation Plan d'eau de l'Echalier 49400 DISTRE
CATEGORIES:Sportif
STATUS:
URL;VALUE=URI:https://www.slm49.com/evenements/2026/06/29/mn-xtreme-distance-de-13-a-15-km-2441783
END:VEVENT
END:VCALENDAR
