BEGIN:VCALENDAR
VERSION:2.0
PRODID:-//hacksw/handcal//NONSGML v1.0//EN
BEGIN:VEVENT
SUMMARY:Ferie - Toussaint
UID:c7605ad1-7d59-4664-93b3-dcff1fb1bb2b
DTSTART:20301031T230000Z
DTEND:20301101T230000Z
LOCATION:Localisation   
CATEGORIES:Festif
STATUS:
URL;VALUE=URI:https://www.slm49.com/evenements/2030/11/01/ferie-toussaint-2441423
END:VEVENT
END:VCALENDAR
