BEGIN:VCALENDAR
VERSION:2.0
PRODID:-//hacksw/handcal//NONSGML v1.0//EN
BEGIN:VEVENT
SUMMARY:Jour Ferie - 1 mai
UID:85bd3597-cf50-42ce-a831-a945df376516
DTSTART:20400430T230000Z
DTEND:20400501T230000Z
LOCATION:Localisation   
CATEGORIES:Festif
STATUS:
URL;VALUE=URI:https://www.slm49.com/evenements/2040/05/01/jour-ferie-1-mai-2441371
END:VEVENT
END:VCALENDAR
